Package: MSstatsQCgui Version: 1.24.0 Command: /Library/Frameworks/R.framework/Resources/bin/R CMD check --install=check:MSstatsQCgui.install-out.txt --library=/Library/Frameworks/R.framework/Resources/library --no-vignettes --timings MSstatsQCgui_1.24.0.tar.gz StartedAt: 2024-10-18 05:21:35 -0400 (Fri, 18 Oct 2024) EndedAt: 2024-10-18 05:26:19 -0400 (Fri, 18 Oct 2024) EllapsedTime: 283.8 seconds RetCode: 0 Status: OK CheckDir: MSstatsQCgui.Rcheck Warnings: 0