Package: MSstatsQCgui Version: 1.24.0 Command: /Library/Frameworks/R.framework/Resources/bin/R CMD build --keep-empty-dirs --no-resave-data MSstatsQCgui StartedAt: 2024-10-17 05:16:53 -0400 (Thu, 17 Oct 2024) EndedAt: 2024-10-17 05:17:43 -0400 (Thu, 17 Oct 2024) EllapsedTime: 49.9 seconds RetCode: 0 Status: OK PackageFile: MSstatsQCgui_1.24.0.tar.gz PackageFileSize: 75.36 KiB