Package: MSstatsQC Version: 2.22.0 Command: chmod a+r MSstatsQC -R && F:\biocbuild\bbs-3.19-bioc\R\bin\R.exe CMD build --keep-empty-dirs --no-resave-data MSstatsQC StartedAt: 2024-06-26 20:20:55 -0400 (Wed, 26 Jun 2024) EndedAt: 2024-06-26 20:22:30 -0400 (Wed, 26 Jun 2024) EllapsedTime: 95.1 seconds RetCode: 0 Status: OK PackageFile: MSstatsQC_2.22.0.tar.gz PackageFileSize: 1.421 MiB