Package: MSstatsQC Version: 2.22.0 Command: rm -rf MSstatsQC.buildbin-libdir && mkdir MSstatsQC.buildbin-libdir && F:\biocbuild\bbs-3.19-bioc\R\bin\R.exe CMD INSTALL --build --library=MSstatsQC.buildbin-libdir MSstatsQC_2.22.0.tar.gz StartedAt: 2024-06-27 08:33:43 -0400 (Thu, 27 Jun 2024) EndedAt: 2024-06-27 08:34:39 -0400 (Thu, 27 Jun 2024) EllapsedTime: 56.0 seconds RetCode: 0 Status: OK PackageFile: MSstatsQC_2.22.0.zip PackageFileSize: 1.495 MiB