Package: MSstatsQC Version: 2.22.0 Command: rm -rf MSstatsQC.buildbin-libdir && mkdir MSstatsQC.buildbin-libdir && /Users/biocbuild/BBS/utils/build-universal.sh MSstatsQC_2.22.0.tar.gz /Library/Frameworks/R.framework/Resources/bin/R MSstatsQC.buildbin-libdir StartedAt: 2024-10-17 16:41:16 -0400 (Thu, 17 Oct 2024) EndedAt: 2024-10-17 16:42:44 -0400 (Thu, 17 Oct 2024) EllapsedTime: 87.1 seconds RetCode: 0 Status: OK PackageFile: MSstatsQC_2.22.0.tgz PackageFileSize: 2.367 MiB