Package: MSstatsQC Version: 2.22.0 Command: /home/biocbuild/R/R-beta-2024-04-15_r86425/bin/R CMD check --install=check:MSstatsQC.install-out.txt --library=/home/biocbuild/R/R-beta-2024-04-15_r86425/site-library --no-vignettes --timings MSstatsQC_2.22.0.tar.gz StartedAt: 2024-05-09 09:50:40 -0000 (Thu, 09 May 2024) EndedAt: 2024-05-09 09:56:19 -0000 (Thu, 09 May 2024) EllapsedTime: 338.6 seconds RetCode: 0 Status: OK CheckDir: MSstatsQC.Rcheck Warnings: 0