Package: MSstatsQC Version: 2.22.0 Command: /Library/Frameworks/R.framework/Resources/bin/R CMD INSTALL MSstatsQC StartedAt: 2024-10-16 17:39:51 -0400 (Wed, 16 Oct 2024) EndedAt: 2024-10-16 17:40:34 -0400 (Wed, 16 Oct 2024) EllapsedTime: 43.6 seconds RetCode: 0 Status: OK