Package: MSstatsPTM Version: 2.6.0 Command: chmod a+r MSstatsPTM -R && F:\biocbuild\bbs-3.19-bioc\R\bin\R.exe CMD build --keep-empty-dirs --no-resave-data MSstatsPTM StartedAt: 2024-06-26 20:20:30 -0400 (Wed, 26 Jun 2024) EndedAt: 2024-06-26 20:22:12 -0400 (Wed, 26 Jun 2024) EllapsedTime: 102.3 seconds RetCode: 0 Status: OK PackageFile: MSstatsPTM_2.6.0.tar.gz PackageFileSize: 1.489 MiB