Package: MSstatsPTM Version: 2.6.0 Command: rm -rf MSstatsPTM.buildbin-libdir && mkdir MSstatsPTM.buildbin-libdir && F:\biocbuild\bbs-3.19-bioc\R\bin\R.exe CMD INSTALL --build --library=MSstatsPTM.buildbin-libdir MSstatsPTM_2.6.0.tar.gz StartedAt: 2024-06-27 08:33:42 -0400 (Thu, 27 Jun 2024) EndedAt: 2024-06-27 08:34:31 -0400 (Thu, 27 Jun 2024) EllapsedTime: 49.8 seconds RetCode: 0 Status: OK PackageFile: MSstatsPTM_2.6.0.zip PackageFileSize: 2.213 MiB