Package: MSstatsPTM Version: 2.6.1 Command: /home/biocbuild/bbs-3.19-bioc/R/bin/R CMD INSTALL MSstatsPTM StartedAt: 2024-10-16 16:34:50 -0400 (Wed, 16 Oct 2024) EndedAt: 2024-10-16 16:35:16 -0400 (Wed, 16 Oct 2024) EllapsedTime: 26.4 seconds RetCode: 0 Status: OK