Package: MSstatsPTM Version: 2.6.1 Command: /Library/Frameworks/R.framework/Resources/bin/R CMD INSTALL MSstatsPTM StartedAt: 2024-10-16 16:29:15 -0400 (Wed, 16 Oct 2024) EndedAt: 2024-10-16 16:30:21 -0400 (Wed, 16 Oct 2024) EllapsedTime: 65.9 seconds RetCode: 0 Status: OK