Package: MSstatsPTM Version: 2.6.1 Command: /Library/Frameworks/R.framework/Resources/bin/R CMD check --install=check:MSstatsPTM.install-out.txt --library=/Library/Frameworks/R.framework/Resources/library --no-vignettes --timings MSstatsPTM_2.6.1.tar.gz StartedAt: 2024-10-17 09:40:01 -0400 (Thu, 17 Oct 2024) EndedAt: 2024-10-17 09:50:21 -0400 (Thu, 17 Oct 2024) EllapsedTime: 620.0 seconds RetCode: 0 Status: WARNINGS CheckDir: MSstatsPTM.Rcheck Warnings: 2