Package: MSstatsPTM Version: 2.6.1 Command: /Library/Frameworks/R.framework/Resources/bin/R CMD build --keep-empty-dirs --no-resave-data MSstatsPTM StartedAt: 2024-10-16 21:23:37 -0400 (Wed, 16 Oct 2024) EndedAt: 2024-10-16 21:27:51 -0400 (Wed, 16 Oct 2024) EllapsedTime: 253.7 seconds RetCode: 0 Status: OK PackageFile: MSstatsPTM_2.6.1.tar.gz PackageFileSize: 2.813 MiB