Package: MSstatsPTM Version: 2.6.0 Command: /Library/Frameworks/R.framework/Resources/bin/R CMD build --keep-empty-dirs --no-resave-data MSstatsPTM StartedAt: 2024-06-09 17:26:29 -0400 (Sun, 09 Jun 2024) EndedAt: 2024-06-09 17:28:11 -0400 (Sun, 09 Jun 2024) EllapsedTime: 101.5 seconds RetCode: 0 Status: OK PackageFile: MSstatsPTM_2.6.0.tar.gz PackageFileSize: 2.753 MiB