Package: MSstatsPTM Version: 2.6.1 Command: rm -rf MSstatsPTM.buildbin-libdir && mkdir MSstatsPTM.buildbin-libdir && /Users/biocbuild/BBS/utils/build-universal.sh MSstatsPTM_2.6.1.tar.gz /Library/Frameworks/R.framework/Resources/bin/R MSstatsPTM.buildbin-libdir StartedAt: 2024-10-18 19:38:26 -0400 (Fri, 18 Oct 2024) EndedAt: 2024-10-18 19:39:07 -0400 (Fri, 18 Oct 2024) EllapsedTime: 40.8 seconds RetCode: 0 Status: OK PackageFile: MSstatsPTM_2.6.1.tgz PackageFileSize: 3.235 MiB