Package: MSstatsLiP Version: 1.10.0 Command: F:\biocbuild\bbs-3.19-bioc\R\bin\R.exe CMD INSTALL MSstatsLiP StartedAt: 2024-06-26 16:52:31 -0400 (Wed, 26 Jun 2024) EndedAt: 2024-06-26 16:53:15 -0400 (Wed, 26 Jun 2024) EllapsedTime: 44.9 seconds RetCode: 0 Status: OK