Package: MSstatsLiP Version: 1.10.0 Command: /Library/Frameworks/R.framework/Resources/bin/R CMD build --keep-empty-dirs --no-resave-data MSstatsLiP StartedAt: 2024-06-09 17:26:18 -0400 (Sun, 09 Jun 2024) EndedAt: 2024-06-09 17:27:35 -0400 (Sun, 09 Jun 2024) EllapsedTime: 76.8 seconds RetCode: 0 Status: OK PackageFile: MSstatsLiP_1.10.0.tar.gz PackageFileSize: 2.003 MiB