Package: MSstatsLiP Version: 1.10.0 Command: rm -rf MSstatsLiP.buildbin-libdir && mkdir MSstatsLiP.buildbin-libdir && /Users/biocbuild/BBS/utils/build-universal.sh MSstatsLiP_1.10.0.tar.gz /Library/Frameworks/R.framework/Resources/bin/R MSstatsLiP.buildbin-libdir StartedAt: 2024-10-18 19:38:23 -0400 (Fri, 18 Oct 2024) EndedAt: 2024-10-18 19:39:01 -0400 (Fri, 18 Oct 2024) EllapsedTime: 37.5 seconds RetCode: 0 Status: OK PackageFile: MSstatsLiP_1.10.0.tgz PackageFileSize: 1.965 MiB