Package: MSstatsLOBD Version: 1.12.0 Command: chmod a+r MSstatsLOBD -R && E:\biocbuild\bbs-3.19-bioc\R\bin\R.exe CMD build --keep-empty-dirs --no-resave-data MSstatsLOBD StartedAt: 2024-10-16 20:33:41 -0400 (Wed, 16 Oct 2024) EndedAt: 2024-10-16 20:34:17 -0400 (Wed, 16 Oct 2024) EllapsedTime: 35.6 seconds RetCode: 0 Status: OK PackageFile: MSstatsLOBD_1.12.0.tar.gz PackageFileSize: 137.9 KiB