Package: MSstatsLOBD Version: 1.12.0 Command: rm -rf MSstatsLOBD.buildbin-libdir && mkdir MSstatsLOBD.buildbin-libdir && E:\biocbuild\bbs-3.19-bioc\R\bin\R.exe CMD INSTALL --build --library=MSstatsLOBD.buildbin-libdir MSstatsLOBD_1.12.0.tar.gz StartedAt: 2024-10-17 08:12:56 -0400 (Thu, 17 Oct 2024) EndedAt: 2024-10-17 08:13:12 -0400 (Thu, 17 Oct 2024) EllapsedTime: 16.0 seconds RetCode: 0 Status: OK PackageFile: MSstatsLOBD_1.12.0.zip PackageFileSize: 185.1 KiB