Package: MSstatsLOBD Version: 1.12.0 Command: chmod a+r MSstatsLOBD -R && F:\biocbuild\bbs-3.19-bioc\R\bin\R.exe CMD build --keep-empty-dirs --no-resave-data MSstatsLOBD StartedAt: 2024-06-26 20:20:26 -0400 (Wed, 26 Jun 2024) EndedAt: 2024-06-26 20:20:54 -0400 (Wed, 26 Jun 2024) EllapsedTime: 27.4 seconds RetCode: 0 Status: OK PackageFile: MSstatsLOBD_1.12.0.tar.gz PackageFileSize: 137.2 KiB