Package: MSstatsConvert Version: 1.14.0 Command: rm -rf MSstatsConvert.buildbin-libdir && mkdir MSstatsConvert.buildbin-libdir && E:\biocbuild\bbs-3.19-bioc\R\bin\R.exe CMD INSTALL --build --library=MSstatsConvert.buildbin-libdir MSstatsConvert_1.14.0.tar.gz StartedAt: 2024-10-17 08:12:49 -0400 (Thu, 17 Oct 2024) EndedAt: 2024-10-17 08:14:08 -0400 (Thu, 17 Oct 2024) EllapsedTime: 79.2 seconds RetCode: 0 Status: OK PackageFile: MSstatsConvert_1.14.0.zip PackageFileSize: 2.079 MiB