Package: MSstatsConvert Version: 1.14.0 Command: rm -rf MSstatsConvert.buildbin-libdir && mkdir MSstatsConvert.buildbin-libdir && F:\biocbuild\bbs-3.19-bioc\R\bin\R.exe CMD INSTALL --build --library=MSstatsConvert.buildbin-libdir MSstatsConvert_1.14.0.tar.gz StartedAt: 2024-06-27 08:33:36 -0400 (Thu, 27 Jun 2024) EndedAt: 2024-06-27 08:33:54 -0400 (Thu, 27 Jun 2024) EllapsedTime: 18.5 seconds RetCode: 0 Status: OK PackageFile: MSstatsConvert_1.14.0.zip PackageFileSize: 2.079 MiB