Package: MSstatsConvert Version: 1.14.0 Command: /home/biocbuild/bbs-3.19-bioc/R/bin/R CMD check --install=check:MSstatsConvert.install-out.txt --library=/home/biocbuild/bbs-3.19-bioc/R/site-library --timings MSstatsConvert_1.14.0.tar.gz StartedAt: 2024-10-17 02:51:46 -0400 (Thu, 17 Oct 2024) EndedAt: 2024-10-17 02:52:19 -0400 (Thu, 17 Oct 2024) EllapsedTime: 33.1 seconds RetCode: 0 Status: OK CheckDir: MSstatsConvert.Rcheck Warnings: 0