Package: MSstatsConvert Version: 1.14.0 Command: /home/biocbuild/bbs-3.19-bioc/R/bin/R CMD build --keep-empty-dirs --no-resave-data MSstatsConvert StartedAt: 2024-10-16 19:41:27 -0400 (Wed, 16 Oct 2024) EndedAt: 2024-10-16 19:41:34 -0400 (Wed, 16 Oct 2024) EllapsedTime: 7.0 seconds RetCode: 0 Status: OK PackageFile: MSstatsConvert_1.14.0.tar.gz PackageFileSize: 1.775 MiB