Package: MSstatsConvert Version: 1.14.0 Command: rm -rf MSstatsConvert.buildbin-libdir && mkdir MSstatsConvert.buildbin-libdir && /Users/biocbuild/BBS/utils/build-universal.sh MSstatsConvert_1.14.0.tar.gz /Library/Frameworks/R.framework/Resources/bin/R MSstatsConvert.buildbin-libdir StartedAt: 2024-06-10 00:28:43 -0400 (Mon, 10 Jun 2024) EndedAt: 2024-06-10 00:28:52 -0400 (Mon, 10 Jun 2024) EllapsedTime: 9.1 seconds RetCode: 0 Status: OK PackageFile: MSstatsConvert_1.14.0.tgz PackageFileSize: 2.066 MiB