Package: MSstatsConvert Version: 1.14.0 Command: /home/biocbuild/R/R-beta-2024-04-15_r86425/bin/R CMD check --install=check:MSstatsConvert.install-out.txt --library=/home/biocbuild/R/R-beta-2024-04-15_r86425/site-library --no-vignettes --timings MSstatsConvert_1.14.0.tar.gz StartedAt: 2024-05-09 09:49:48 -0000 (Thu, 09 May 2024) EndedAt: 2024-05-09 09:50:26 -0000 (Thu, 09 May 2024) EllapsedTime: 38.1 seconds RetCode: 0 Status: OK CheckDir: MSstatsConvert.Rcheck Warnings: 0