Package: MSstatsConvert Version: 1.14.0 Command: /home/biocbuild/R/R-beta-2024-04-15_r86425/bin/R CMD build --keep-empty-dirs --no-resave-data MSstatsConvert StartedAt: 2024-05-09 01:58:56 -0000 (Thu, 09 May 2024) EndedAt: 2024-05-09 01:59:06 -0000 (Thu, 09 May 2024) EllapsedTime: 10.0 seconds RetCode: 0 Status: OK PackageFile: MSstatsConvert_1.14.0.tar.gz PackageFileSize: 1.776 MiB