Package: MSstatsBig Version: 1.2.0 Command: rm -rf MSstatsBig.buildbin-libdir && mkdir MSstatsBig.buildbin-libdir && E:\biocbuild\bbs-3.19-bioc\R\bin\R.exe CMD INSTALL --build --library=MSstatsBig.buildbin-libdir MSstatsBig_1.2.0.tar.gz StartedAt: 2024-10-17 08:12:47 -0400 (Thu, 17 Oct 2024) EndedAt: 2024-10-17 08:13:05 -0400 (Thu, 17 Oct 2024) EllapsedTime: 17.8 seconds RetCode: 0 Status: OK PackageFile: MSstatsBig_1.2.0.zip PackageFileSize: 98.27 KiB