Package: MSstatsBig Version: 1.2.0 Command: F:\biocbuild\bbs-3.19-bioc\R\bin\R.exe CMD INSTALL MSstatsBig StartedAt: 2024-06-26 16:32:29 -0400 (Wed, 26 Jun 2024) EndedAt: 2024-06-26 16:32:44 -0400 (Wed, 26 Jun 2024) EllapsedTime: 15.2 seconds RetCode: 0 Status: OK