Package: MSstatsBig Version: 1.2.0 Command: F:\biocbuild\bbs-3.19-bioc\R\bin\R.exe CMD check --no-multiarch --install=check:MSstatsBig.install-out.txt --library=F:\biocbuild\bbs-3.19-bioc\R\library --no-vignettes --timings MSstatsBig_1.2.0.tar.gz StartedAt: 2024-06-27 03:58:54 -0400 (Thu, 27 Jun 2024) EndedAt: 2024-06-27 04:00:28 -0400 (Thu, 27 Jun 2024) EllapsedTime: 93.8 seconds RetCode: 0 Status: OK CheckDir: MSstatsBig.Rcheck Warnings: 0