Package: MSstatsBig Version: 1.2.0 Command: chmod a+r MSstatsBig -R && F:\biocbuild\bbs-3.19-bioc\R\bin\R.exe CMD build --keep-empty-dirs --no-resave-data MSstatsBig StartedAt: 2024-06-26 20:20:01 -0400 (Wed, 26 Jun 2024) EndedAt: 2024-06-26 20:20:25 -0400 (Wed, 26 Jun 2024) EllapsedTime: 24.2 seconds RetCode: 0 Status: OK PackageFile: MSstatsBig_1.2.0.tar.gz PackageFileSize: 70.29 KiB