Package: MSstatsBig Version: 1.2.0 Command: /Library/Frameworks/R.framework/Resources/bin/R CMD build --keep-empty-dirs --no-resave-data MSstatsBig StartedAt: 2024-10-16 21:22:48 -0400 (Wed, 16 Oct 2024) EndedAt: 2024-10-16 21:23:37 -0400 (Wed, 16 Oct 2024) EllapsedTime: 49.0 seconds RetCode: 1 Status: ERROR PackageFile: None PackageFileSize: NA