Package: MSstatsBig Version: 1.2.0 Command: /home/biocbuild/R/R-beta-2024-04-15_r86425/bin/R CMD INSTALL MSstatsBig StartedAt: 2024-05-08 20:49:48 -0000 (Wed, 08 May 2024) EndedAt: 2024-05-08 20:50:01 -0000 (Wed, 08 May 2024) EllapsedTime: 13.1 seconds RetCode: 0 Status: OK