Package: MSstatsBig Version: 1.2.0 Command: rm -rf MSstatsBig.buildbin-libdir && mkdir MSstatsBig.buildbin-libdir && /Users/biocbuild/BBS/utils/build-universal.sh MSstatsBig_1.2.0.tar.gz /Library/Frameworks/R.framework/Resources/bin/R MSstatsBig.buildbin-libdir StartedAt: 2024-06-11 12:12:57 -0400 (Tue, 11 Jun 2024) EndedAt: 2024-06-11 12:13:20 -0400 (Tue, 11 Jun 2024) EllapsedTime: 23.1 seconds RetCode: 0 Status: OK PackageFile: MSstatsBig_1.2.0.tgz PackageFileSize: 94.73 KiB