Package: MSstatsBig Version: 1.2.0 Command: rm -rf MSstatsBig.buildbin-libdir && mkdir MSstatsBig.buildbin-libdir && /Users/biocbuild/BBS/utils/build-universal.sh MSstatsBig_1.2.0.tar.gz /Library/Frameworks/R.framework/Resources/bin/R MSstatsBig.buildbin-libdir StartedAt: 2024-10-18 19:38:08 -0400 (Fri, 18 Oct 2024) EndedAt: 2024-10-18 19:38:23 -0400 (Fri, 18 Oct 2024) EllapsedTime: 14.8 seconds RetCode: 0 Status: OK PackageFile: MSstatsBig_1.2.0.tgz PackageFileSize: 94.64 KiB