Package: MSstats Version: 4.12.1 Command: E:\biocbuild\bbs-3.19-bioc\R\bin\R.exe CMD INSTALL MSstats StartedAt: 2024-10-16 16:57:33 -0400 (Wed, 16 Oct 2024) EndedAt: 2024-10-16 16:58:51 -0400 (Wed, 16 Oct 2024) EllapsedTime: 78.7 seconds RetCode: 0 Status: OK