Package: MSstats Version: 4.12.1 Command: E:\biocbuild\bbs-3.19-bioc\R\bin\R.exe CMD check --no-multiarch --install=check:MSstats.install-out.txt --library=E:\biocbuild\bbs-3.19-bioc\R\library --no-vignettes --timings MSstats_4.12.1.tar.gz StartedAt: 2024-10-17 03:43:21 -0400 (Thu, 17 Oct 2024) EndedAt: 2024-10-17 03:45:59 -0400 (Thu, 17 Oct 2024) EllapsedTime: 158.3 seconds RetCode: 0 Status: WARNINGS CheckDir: MSstats.Rcheck Warnings: 1