Package: MSstats Version: 4.12.1 Command: chmod a+r MSstats -R && E:\biocbuild\bbs-3.19-bioc\R\bin\R.exe CMD build --keep-empty-dirs --no-resave-data MSstats StartedAt: 2024-10-16 20:33:02 -0400 (Wed, 16 Oct 2024) EndedAt: 2024-10-16 20:34:18 -0400 (Wed, 16 Oct 2024) EllapsedTime: 75.7 seconds RetCode: 0 Status: OK PackageFile: MSstats_4.12.1.tar.gz PackageFileSize: 197.3 KiB