Package: MSstats Version: 4.12.1 Command: rm -rf MSstats.buildbin-libdir && mkdir MSstats.buildbin-libdir && E:\biocbuild\bbs-3.19-bioc\R\bin\R.exe CMD INSTALL --build --library=MSstats.buildbin-libdir MSstats_4.12.1.tar.gz StartedAt: 2024-10-17 08:12:45 -0400 (Thu, 17 Oct 2024) EndedAt: 2024-10-17 08:14:07 -0400 (Thu, 17 Oct 2024) EllapsedTime: 81.4 seconds RetCode: 0 Status: OK PackageFile: MSstats_4.12.1.zip PackageFileSize: 1.018 MiB