Package: MSstats Version: 4.12.0 Command: F:\biocbuild\bbs-3.19-bioc\R\bin\R.exe CMD check --no-multiarch --install=check:MSstats.install-out.txt --library=F:\biocbuild\bbs-3.19-bioc\R\library --no-vignettes --timings MSstats_4.12.0.tar.gz StartedAt: 2024-06-27 03:58:13 -0400 (Thu, 27 Jun 2024) EndedAt: 2024-06-27 04:01:09 -0400 (Thu, 27 Jun 2024) EllapsedTime: 175.9 seconds RetCode: 0 Status: WARNINGS CheckDir: MSstats.Rcheck Warnings: 1