Package: MSstats Version: 4.12.0 Command: chmod a+r MSstats -R && F:\biocbuild\bbs-3.19-bioc\R\bin\R.exe CMD build --keep-empty-dirs --no-resave-data MSstats StartedAt: 2024-06-26 20:19:47 -0400 (Wed, 26 Jun 2024) EndedAt: 2024-06-26 20:21:09 -0400 (Wed, 26 Jun 2024) EllapsedTime: 82.4 seconds RetCode: 0 Status: OK PackageFile: MSstats_4.12.0.tar.gz PackageFileSize: 197.2 KiB