Package: MSstats Version: 4.12.0 Command: rm -rf MSstats.buildbin-libdir && mkdir MSstats.buildbin-libdir && F:\biocbuild\bbs-3.19-bioc\R\bin\R.exe CMD INSTALL --build --library=MSstats.buildbin-libdir MSstats_4.12.0.tar.gz StartedAt: 2024-06-27 08:33:32 -0400 (Thu, 27 Jun 2024) EndedAt: 2024-06-27 08:34:54 -0400 (Thu, 27 Jun 2024) EllapsedTime: 81.9 seconds RetCode: 0 Status: OK PackageFile: MSstats_4.12.0.zip PackageFileSize: 1.015 MiB