Package: MSstats Version: 4.12.1 Command: /home/biocbuild/bbs-3.19-bioc/R/bin/R CMD build --keep-empty-dirs --no-resave-data MSstats StartedAt: 2024-10-16 19:41:12 -0400 (Wed, 16 Oct 2024) EndedAt: 2024-10-16 19:41:57 -0400 (Wed, 16 Oct 2024) EllapsedTime: 45.1 seconds RetCode: 0 Status: OK PackageFile: MSstats_4.12.1.tar.gz PackageFileSize: 197.3 KiB