Package: MSstats Version: 4.12.1 Command: /Library/Frameworks/R.framework/Resources/bin/R CMD INSTALL MSstats StartedAt: 2024-10-16 16:17:50 -0400 (Wed, 16 Oct 2024) EndedAt: 2024-10-16 16:19:24 -0400 (Wed, 16 Oct 2024) EllapsedTime: 94.6 seconds RetCode: 0 Status: OK