Package: MSstats Version: 4.12.1 Command: rm -rf MSstats.buildbin-libdir && mkdir MSstats.buildbin-libdir && /Users/biocbuild/BBS/utils/build-universal.sh MSstats_4.12.1.tar.gz /Library/Frameworks/R.framework/Resources/bin/R MSstats.buildbin-libdir StartedAt: 2024-10-17 16:40:42 -0400 (Thu, 17 Oct 2024) EndedAt: 2024-10-17 16:42:23 -0400 (Thu, 17 Oct 2024) EllapsedTime: 101.1 seconds RetCode: 0 Status: OK PackageFile: MSstats_4.12.1.tgz PackageFileSize: 724.2 KiB