Package: MSstats Version: 4.12.0 Command: /Library/Frameworks/R.framework/Resources/bin/R CMD INSTALL MSstats StartedAt: 2024-06-09 15:31:39 -0400 (Sun, 09 Jun 2024) EndedAt: 2024-06-09 15:32:33 -0400 (Sun, 09 Jun 2024) EllapsedTime: 53.7 seconds RetCode: 0 Status: OK