Package: MSstats Version: 4.12.0 Command: /Library/Frameworks/R.framework/Resources/bin/R CMD check --install=check:MSstats.install-out.txt --library=/Library/Frameworks/R.framework/Resources/library --no-vignettes --timings MSstats_4.12.0.tar.gz StartedAt: 2024-06-09 21:45:08 -0400 (Sun, 09 Jun 2024) EndedAt: 2024-06-09 21:47:26 -0400 (Sun, 09 Jun 2024) EllapsedTime: 138.5 seconds RetCode: 0 Status: WARNINGS CheckDir: MSstats.Rcheck Warnings: 1