Package: MSstats Version: 4.12.0 Command: rm -rf MSstats.buildbin-libdir && mkdir MSstats.buildbin-libdir && /Users/biocbuild/BBS/utils/build-universal.sh MSstats_4.12.0.tar.gz /Library/Frameworks/R.framework/Resources/bin/R MSstats.buildbin-libdir StartedAt: 2024-06-10 00:28:42 -0400 (Mon, 10 Jun 2024) EndedAt: 2024-06-10 00:29:41 -0400 (Mon, 10 Jun 2024) EllapsedTime: 58.7 seconds RetCode: 0 Status: OK PackageFile: MSstats_4.12.0.tgz PackageFileSize: 722.6 KiB