Package: MSstats Version: 4.12.0 Command: /home/biocbuild/R/R-beta-2024-04-15_r86425/bin/R CMD INSTALL MSstats StartedAt: 2024-05-08 20:48:20 -0000 (Wed, 08 May 2024) EndedAt: 2024-05-08 20:49:45 -0000 (Wed, 08 May 2024) EllapsedTime: 84.2 seconds RetCode: 0 Status: OK